BEGIN:VCALENDAR
VERSION:2.0
PRODID:-//OceanFirst Foundation - ECPv6.15.20//NONSGML v1.0//EN
CALSCALE:GREGORIAN
METHOD:PUBLISH
X-ORIGINAL-URL:https://www.oceanfirstfdn.org
X-WR-CALDESC:Events for OceanFirst Foundation
REFRESH-INTERVAL;VALUE=DURATION:PT1H
X-Robots-Tag:noindex
X-PUBLISHED-TTL:PT1H
BEGIN:VTIMEZONE
TZID:America/New_York
BEGIN:DAYLIGHT
TZOFFSETFROM:-0500
TZOFFSETTO:-0400
TZNAME:EDT
DTSTART:20240310T070000
END:DAYLIGHT
BEGIN:STANDARD
TZOFFSETFROM:-0400
TZOFFSETTO:-0500
TZNAME:EST
DTSTART:20241103T060000
END:STANDARD
BEGIN:DAYLIGHT
TZOFFSETFROM:-0500
TZOFFSETTO:-0400
TZNAME:EDT
DTSTART:20250309T070000
END:DAYLIGHT
BEGIN:STANDARD
TZOFFSETFROM:-0400
TZOFFSETTO:-0500
TZNAME:EST
DTSTART:20251102T060000
END:STANDARD
BEGIN:DAYLIGHT
TZOFFSETFROM:-0500
TZOFFSETTO:-0400
TZNAME:EDT
DTSTART:20260308T070000
END:DAYLIGHT
BEGIN:STANDARD
TZOFFSETFROM:-0400
TZOFFSETTO:-0500
TZNAME:EST
DTSTART:20261101T060000
END:STANDARD
END:VTIMEZONE
BEGIN:VEVENT
DTSTART;TZID=America/New_York:20251017T190000
DTEND;TZID=America/New_York:20251017T230000
DTSTAMP:20260419T084723
CREATED:20250909T150454Z
LAST-MODIFIED:20250911T170504Z
UID:10204-1760727600-1760742000@www.oceanfirstfdn.org
SUMMARY:The She Shed - Fundraiser Cabaret Variety Show
DESCRIPTION:A Cabaret Variety Show benefiting The SheShed\, a nonprofit Feminine Pantry for those in need. Based in Keansburg\, The SheShed provides free feminine health products across Monmouth County\, NJ. Featuring live vocals\, comedy\, drag\, & performances that will certainly leave you entertained!\n\n\n\nHosted by Betty Buttonz & Aya Vlasheez. All ticket proceeds benefit The Shed.\n\n\n\nSponsored by 3BR Distillery & Haus of MonMouth.\n\n\n\nGet your tickets now at https://www.sickening.events/e/sheshed
URL:https://www.oceanfirstfdn.org/event/the-she-shed-fundraiser-cabaret-variety-show/
END:VEVENT
END:VCALENDAR