BEGIN:VCALENDAR
VERSION:2.0
PRODID:-//OceanFirst Foundation - ECPv6.15.20//NONSGML v1.0//EN
CALSCALE:GREGORIAN
METHOD:PUBLISH
X-WR-CALNAME:OceanFirst Foundation
X-ORIGINAL-URL:https://www.oceanfirstfdn.org
X-WR-CALDESC:Events for OceanFirst Foundation
REFRESH-INTERVAL;VALUE=DURATION:PT1H
X-Robots-Tag:noindex
X-PUBLISHED-TTL:PT1H
BEGIN:VTIMEZONE
TZID:America/New_York
BEGIN:DAYLIGHT
TZOFFSETFROM:-0500
TZOFFSETTO:-0400
TZNAME:EDT
DTSTART:20250309T070000
END:DAYLIGHT
BEGIN:STANDARD
TZOFFSETFROM:-0400
TZOFFSETTO:-0500
TZNAME:EST
DTSTART:20251102T060000
END:STANDARD
BEGIN:DAYLIGHT
TZOFFSETFROM:-0500
TZOFFSETTO:-0400
TZNAME:EDT
DTSTART:20260308T070000
END:DAYLIGHT
BEGIN:STANDARD
TZOFFSETFROM:-0400
TZOFFSETTO:-0500
TZNAME:EST
DTSTART:20261101T060000
END:STANDARD
BEGIN:DAYLIGHT
TZOFFSETFROM:-0500
TZOFFSETTO:-0400
TZNAME:EDT
DTSTART:20270314T070000
END:DAYLIGHT
BEGIN:STANDARD
TZOFFSETFROM:-0400
TZOFFSETTO:-0500
TZNAME:EST
DTSTART:20271107T060000
END:STANDARD
END:VTIMEZONE
BEGIN:VEVENT
DTSTART;TZID=America/New_York:20260419T120000
DTEND;TZID=America/New_York:20260419T160000
DTSTAMP:20260419T094121
CREATED:20260226T195938Z
LAST-MODIFIED:20260226T200125Z
UID:11333-1776600000-1776614400@www.oceanfirstfdn.org
SUMMARY:The Oxx Foundation - A Night at the Oscars - Stronger Together for Parkinson’s
DESCRIPTION:A Night at the Oscars – Stronger Together for Parkinson’s \n\nHosted by The Oxx Foundation – Embracing the Journey\nSunday\, April 19\, 2026 | The Shore Club \nRoll out the red carpet! Join The Oxx Foundation for its dazzling signature fundraiser\, A Night at the Oscars – Stronger Together for Parkinson’s. This star‑studded evening brings Hollywood glam to the Jersey Shore with a high-energy gift auction\, stunning themed décor\, exclusive sponsor experiences\, raffles\, and heartfelt moments honoring our Parkinson’s community. \nEvery ticket supports individuals and families in Ocean and Monmouth Counties impacted by Parkinson’s and parkinsonism. Your participation helps fuel movement‑based wellness programs\, creative arts initiatives\, educational workshops\, and essential support services – all designed to build strength\, connection\, and belonging. \n🎟️ Reserve your spot: https://www.zeffy.com/en-US/ticketing/a-night-at-the-oscars
URL:https://www.oceanfirstfdn.org/event/the-oxx-foundation-a-night-at-the-oscars-stronger-together-for-parkinsons/
LOCATION:The Shore Club\, 700 Rt 71\, Spring Lake\, NJ\, 07762
ATTACH;FMTTYPE=image/png:https://www.oceanfirstfdn.org/wp-content/uploads/2026/02/Event-Page-Banners-6.png
END:VEVENT
END:VCALENDAR